BEGIN:VCALENDAR
VERSION:2.0
PRODID:-//American Warrior Radio - ECPv6.15.20//NONSGML v1.0//EN
CALSCALE:GREGORIAN
METHOD:PUBLISH
X-WR-CALNAME:American Warrior Radio
X-ORIGINAL-URL:https://americanwarriorradio.com
X-WR-CALDESC:Events for American Warrior Radio
REFRESH-INTERVAL;VALUE=DURATION:PT1H
X-Robots-Tag:noindex
X-PUBLISHED-TTL:PT1H
BEGIN:VTIMEZONE
TZID:America/Phoenix
BEGIN:STANDARD
TZOFFSETFROM:-0700
TZOFFSETTO:-0700
TZNAME:MST
DTSTART:20250101T000000
END:STANDARD
END:VTIMEZONE
BEGIN:VEVENT
DTSTART;TZID=America/Phoenix:20260425T120000
DTEND;TZID=America/Phoenix:20260425T130000
DTSTAMP:20260423T233006
CREATED:20260415T222026Z
LAST-MODIFIED:20260415T223013Z
UID:5486-1777118400-1777122000@americanwarriorradio.com
SUMMARY:Major General Edward Mechenbier
DESCRIPTION:Ed Mechenbier was shot down flying his 80th mission over North Vietnam. He would spend nearly six years as a POW.
URL:https://americanwarriorradio.com/event/major-general-edward-mechenbier/
END:VEVENT
END:VCALENDAR